---
# Dataset
$schema: https://schemas.opendatacube.org/dataset
id: 237ac626-a7f5-41d2-ad42-1a9fe59707e6
label: cemp_insar_radarsat2_displacement_2016-02-16
product:
  name: cemp_insar_radarsat2_displacement
crs: epsg:32756
geometry:
  type: Polygon
  coordinates: [[[273825.0, 6248475.0], [273824.9060152036, 6194175.000088331], [ 300525.08756554, 6194125.000076678], [329124.99992619373, 6194224.914089474], [329175.0, 6223475.0], [329075.0, 6248475.0], [273825.0, 6248475.0]]]
grids:
  default:
    shape: [1101, 1135]
    transform: [50.0, 0.0, 273475.0, 0.0, -50.0, 6248825.0, 0.0, 0.0, 1.0]
properties:
  datetime: 2016-02-16 01:01:01Z
  odc:file_format: GeoTIFF
  odc:processing_datetime: 2019-12-19 21:00:47.092244Z
  odc:product_family: cemp_insar_radarsat2_displacement
measurements:
  ew:
    path: radarsat-2_cumul_east_2016-02-16.tif
  ewstd:
    path: radarsat-2_cumulstd_east_2016-02-16.tif
  ud:
    path: radarsat-2_cumul_up_2016-02-16.tif
  upstd:
    path: radarsat-2_cumulstd_up_2016-02-16.tif
accessories: {}
lineage: {}
...
