---
# Dataset
$schema: https://schemas.opendatacube.org/dataset
id: 85bfc57e-7aef-4b55-9b94-05482251e677
label: cemp_insar_envisat_displacement_2009-07-16
product:
  name: cemp_insar_envisat_displacement
crs: epsg:32756
geometry:
  type: Polygon
  coordinates: [[[262875.0, 6289975.0], [262825.0, 6177775.0], [296775.0, 6177675.0], [331325.0727801267, 6177725.00005297], [331425.0, 6227125.0], [331374.9999840256, 6289925.039968013], [262875.0, 6289975.0]]]
grids:
  default:
    shape: [2267, 1567]
    transform: [50.0, 0.0, 257975.0, 0.0, -50.0, 6290325.0, 0.0, 0.0, 1.0]
properties:
  datetime: 2009-07-16 01:01:01Z
  odc:file_format: GeoTIFF
  odc:processing_datetime: 2019-12-19 21:07:59.194180Z
  odc:product_family: cemp_insar_envisat_displacement
measurements:
  ew:
    path: envisat_cumul_east_2009-07-16.tif
  ewstd:
    path: envisat_cumulstd_east_2009-07-16.tif
  ud:
    path: envisat_cumul_up_2009-07-16.tif
  upstd:
    path: envisat_cumulstd_up_2009-07-16.tif
accessories: {}
lineage: {}
...
