---
# Dataset
$schema: https://schemas.opendatacube.org/dataset
id: 5724b208-0aef-418f-8db4-4a1f9e8ec90b
label: cemp_insar_envisat_displacement_2006-07-20
product:
  name: cemp_insar_envisat_displacement
crs: epsg:32756
geometry:
  type: Polygon
  coordinates: [[[262875.0, 6289975.0], [262825.0, 6177775.0], [296775.0, 6177675.0], [331325.0727801267, 6177725.00005297], [331425.0, 6227125.0], [331374.9999840256, 6289925.039968013], [262875.0, 6289975.0]]]
grids:
  default:
    shape: [2267, 1567]
    transform: [50.0, 0.0, 257975.0, 0.0, -50.0, 6290325.0, 0.0, 0.0, 1.0]
properties:
  datetime: 2006-07-20 01:01:01Z
  odc:file_format: GeoTIFF
  odc:processing_datetime: 2019-12-19 21:06:07.262751Z
  odc:product_family: cemp_insar_envisat_displacement
measurements:
  ew:
    path: envisat_cumul_east_2006-07-20.tif
  ewstd:
    path: envisat_cumulstd_east_2006-07-20.tif
  ud:
    path: envisat_cumul_up_2006-07-20.tif
  upstd:
    path: envisat_cumulstd_up_2006-07-20.tif
accessories: {}
lineage: {}
...
