---
# Dataset
$schema: https://schemas.opendatacube.org/dataset
id: a8c90268-91fc-41b3-a219-79a3763f7e53
label: cemp_insar_alos_displacement_2008-03-30
product:
  name: cemp_insar_alos_displacement
crs: epsg:32756
geometry:
  type: Polygon
  coordinates: [[[254975.0, 6259925.0], [254925.0, 6178225.0], [274375.0, 6178125.0], [324525.0499001747, 6178175.0000249], [324624.99998195376, 6237074.957519132], [324574.99987654365, 6259875.111110837], [254975.0, 6259925.0]]]
grids:
  default:
    shape: [1731, 1703]
    transform: [50.00000000000001, 0.0, 254475.0, 0.0, -50.00000000000001, 6260125.0, 0.0, 0.0, 1.0]
properties:
  datetime: 2008-03-30 01:01:01Z
  odc:file_format: GeoTIFF
  odc:processing_datetime: 2019-12-19 20:50:33.403997Z
  odc:product_family: cemp_insar_alos_displacement
measurements:
  ew:
    path: alos_cumul_east_2008-03-30.tif
  ewstd:
    path: alos_cumulstd_east_2008-03-30.tif
  ud:
    path: alos_cumul_up_2008-03-30.tif
  upstd:
    path: alos_cumulstd_up_2008-03-30.tif
accessories: {}
lineage: {}
...
