---
# Dataset
$schema: https://schemas.opendatacube.org/dataset
id: 529efd4d-449e-43fb-93ea-b9587a14eb35
label: ga_s2bm_ard_3-2-1_52KGG_2020-09-18_final
product:
  name: ga_s2bm_ard_3
  href: https://collections.dea.ga.gov.au/product/ga_s2bm_ard_3
crs: epsg:32752
geometry:
  type: Polygon
  coordinates: [[[699960.0, 8200000.0], [809760.0, 8200000.0], [809760.0, 8090200.0], [699960.0, 8090200.0], [699960.0, 8200000.0]]]
grids:
  default:
    shape: [5490, 5490]
    transform: [20.0, 0.0, 699960.0, 0.0, -20.0, 8200000.0, 0.0, 0.0, 1.0]
  '10':
    shape: [10980, 10980]
    transform: [10.0, 0.0, 699960.0, 0.0, -10.0, 8200000.0, 0.0, 0.0, 1.0]
  '60':
    shape: [1830, 1830]
    transform: [60.0, 0.0, 699960.0, 0.0, -60.0, 8200000.0, 0.0, 0.0, 1.0]
properties:
  datetime: 2020-09-18 01:32:02.659466Z
  dea:dataset_maturity: final
  dea:product_maturity: stable
  eo:cloud_cover: 0.2891065391289345
  eo:constellation: sentinel-2
  eo:gsd: 10.0 # Ground sample distance (m)
  eo:instrument: MSI
  eo:platform: sentinel-2b
  eo:sun_azimuth: 54.4189130983489
  eo:sun_elevation: 30.1573380497523
  fmask:clear: 99.0625047693936
  fmask:cloud: 0.2891065391289345
  fmask:cloud_shadow: 0.20614397430665457
  fmask:snow: 0.0006171180586660295
  fmask:water: 0.4416275991121463
  gqa:abs_iterative_mean_x: 0.17
  gqa:abs_iterative_mean_xy: 0.27
  gqa:abs_iterative_mean_y: 0.2
  gqa:abs_x: 0.25
  gqa:abs_xy: 0.39
  gqa:abs_y: 0.3
  gqa:cep90: 0.54
  gqa:iterative_mean_x: -0.04
  gqa:iterative_mean_xy: 0.15
  gqa:iterative_mean_y: -0.14
  gqa:iterative_stddev_x: 0.22
  gqa:iterative_stddev_xy: 0.31
  gqa:iterative_stddev_y: 0.22
  gqa:mean_x: -0.05
  gqa:mean_xy: 0.15
  gqa:mean_y: -0.14
  gqa:stddev_x: 0.62
  gqa:stddev_xy: 1.63
  gqa:stddev_y: 1.51
  odc:dataset_version: 3.2.1
  odc:file_format: GeoTIFF
  odc:processing_datetime: 2022-08-02 11:18:14.983149Z
  odc:producer: ga.gov.au
  odc:product_family: ard
  odc:region_code: 52KGG
  s2cloudless:clear: 98.41189644360836
  s2cloudless:cloud: 1.5881035563916508
  sat:orbit_state: descending
  sat:relative_orbit: 131
  sentinel:datastrip_id: S2B_OPER_MSI_L1C_DS_VGS1_20200918T030427_S20200918T013101_N02.09
  sentinel:datatake_start_datetime: 2020-09-18 03:04:27Z
  sentinel:product_name: S2B_MSIL1C_20200918T012719_N0209_R131_T52KGG_20200918T030427
  sentinel:sentinel_tile_id: S2B_OPER_MSI_L1C_TL_VGS1_20200918T030427_A018461_T52KGG_N02.09
measurements:
  nbart_blue:
    path: ga_s2bm_nbart_3-2-1_52KGG_2020-09-18_final_band02.tif
    grid: '10'
  nbart_coastal_aerosol:
    path: ga_s2bm_nbart_3-2-1_52KGG_2020-09-18_final_band01.tif
    grid: '60'
  nbart_green:
    path: ga_s2bm_nbart_3-2-1_52KGG_2020-09-18_final_band03.tif
    grid: '10'
  nbart_nir_1:
    path: ga_s2bm_nbart_3-2-1_52KGG_2020-09-18_final_band08.tif
    grid: '10'
  nbart_nir_2:
    path: ga_s2bm_nbart_3-2-1_52KGG_2020-09-18_final_band08a.tif
  nbart_red:
    path: ga_s2bm_nbart_3-2-1_52KGG_2020-09-18_final_band04.tif
    grid: '10'
  nbart_red_edge_1:
    path: ga_s2bm_nbart_3-2-1_52KGG_2020-09-18_final_band05.tif
  nbart_red_edge_2:
    path: ga_s2bm_nbart_3-2-1_52KGG_2020-09-18_final_band06.tif
  nbart_red_edge_3:
    path: ga_s2bm_nbart_3-2-1_52KGG_2020-09-18_final_band07.tif
  nbart_swir_2:
    path: ga_s2bm_nbart_3-2-1_52KGG_2020-09-18_final_band11.tif
  nbart_swir_3:
    path: ga_s2bm_nbart_3-2-1_52KGG_2020-09-18_final_band12.tif
  oa_azimuthal_exiting:
    path: ga_s2bm_oa_3-2-1_52KGG_2020-09-18_final_azimuthal-exiting.tif
  oa_azimuthal_incident:
    path: ga_s2bm_oa_3-2-1_52KGG_2020-09-18_final_azimuthal-incident.tif
  oa_combined_terrain_shadow:
    path: ga_s2bm_oa_3-2-1_52KGG_2020-09-18_final_combined-terrain-shadow.tif
  oa_exiting_angle:
    path: ga_s2bm_oa_3-2-1_52KGG_2020-09-18_final_exiting-angle.tif
  oa_fmask:
    path: ga_s2bm_oa_3-2-1_52KGG_2020-09-18_final_fmask.tif
  oa_incident_angle:
    path: ga_s2bm_oa_3-2-1_52KGG_2020-09-18_final_incident-angle.tif
  oa_nbart_contiguity:
    path: ga_s2bm_oa_3-2-1_52KGG_2020-09-18_final_nbart-contiguity.tif
    grid: '10'
  oa_relative_azimuth:
    path: ga_s2bm_oa_3-2-1_52KGG_2020-09-18_final_relative-azimuth.tif
  oa_relative_slope:
    path: ga_s2bm_oa_3-2-1_52KGG_2020-09-18_final_relative-slope.tif
  oa_s2cloudless_mask:
    path: ga_s2bm_oa_3-2-1_52KGG_2020-09-18_final_s2cloudless-mask.tif
    grid: '60'
  oa_s2cloudless_prob:
    path: ga_s2bm_oa_3-2-1_52KGG_2020-09-18_final_s2cloudless-prob.tif
    grid: '60'
  oa_satellite_azimuth:
    path: ga_s2bm_oa_3-2-1_52KGG_2020-09-18_final_satellite-azimuth.tif
  oa_satellite_view:
    path: ga_s2bm_oa_3-2-1_52KGG_2020-09-18_final_satellite-view.tif
  oa_solar_azimuth:
    path: ga_s2bm_oa_3-2-1_52KGG_2020-09-18_final_solar-azimuth.tif
  oa_solar_zenith:
    path: ga_s2bm_oa_3-2-1_52KGG_2020-09-18_final_solar-zenith.tif
  oa_time_delta:
    path: ga_s2bm_oa_3-2-1_52KGG_2020-09-18_final_time-delta.tif
accessories:
  thumbnail:nbart:
    path: ga_s2bm_nbart_3-2-1_52KGG_2020-09-18_final_thumbnail.jpg
  metadata:processor:
    path: ga_s2bm_ard_3-2-1_52KGG_2020-09-18_final.proc-info.yaml
  checksum:sha1:
    path: ga_s2bm_ard_3-2-1_52KGG_2020-09-18_final.sha1
lineage:
  level1:
  - 4b0d5f96-f0b5-52ec-9e22-7952be4568a2
...
